Package: plier Version: 1.68.0 Command: rm -rf plier.buildbin-libdir && mkdir plier.buildbin-libdir && /Users/biocbuild/BBS/utils/build-universal.sh plier_1.68.0.tar.gz /Library/Frameworks/R.framework/Resources/bin/R plier.buildbin-libdir StartedAt: 2023-04-18 18:16:33 -0400 (Tue, 18 Apr 2023) EndedAt: 2023-04-18 18:16:49 -0400 (Tue, 18 Apr 2023) EllapsedTime: 15.9 seconds RetCode: 0 Status: OK PackageFile: plier_1.68.0.tgz PackageFileSize: 39.92 KiB