Package: plier Version: 1.68.0 Command: /Library/Frameworks/R.framework/Resources/bin/R CMD INSTALL plier StartedAt: 2023-04-16 14:23:06 -0400 (Sun, 16 Apr 2023) EndedAt: 2023-04-16 14:23:16 -0400 (Sun, 16 Apr 2023) EllapsedTime: 10.5 seconds RetCode: 0 Status: OK