Package: podkat Version: 1.30.0 Command: /Library/Frameworks/R.framework/Resources/bin/R CMD INSTALL podkat StartedAt: 2023-04-16 16:34:55 -0400 (Sun, 16 Apr 2023) EndedAt: 2023-04-16 16:37:17 -0400 (Sun, 16 Apr 2023) EllapsedTime: 142.8 seconds RetCode: 0 Status: OK