Package: pqsfinder Version: 2.14.1 Command: rm -rf pqsfinder.buildbin-libdir && mkdir pqsfinder.buildbin-libdir && /Users/biocbuild/BBS/utils/build-universal.sh pqsfinder_2.14.1.tar.gz /Library/Frameworks/R.framework/Resources/bin/R pqsfinder.buildbin-libdir StartedAt: 2023-04-18 18:19:03 -0400 (Tue, 18 Apr 2023) EndedAt: 2023-04-18 18:20:39 -0400 (Tue, 18 Apr 2023) EllapsedTime: 95.5 seconds RetCode: 0 Status: OK PackageFile: pqsfinder_2.14.1.tgz PackageFileSize: 1.538 MiB