Package: pqsfinder Version: 2.14.1 Command: /Library/Frameworks/R.framework/Resources/bin/R CMD build --keep-empty-dirs --no-resave-data pqsfinder StartedAt: 2023-04-17 22:16:29 -0400 (Mon, 17 Apr 2023) EndedAt: 2023-04-17 22:19:00 -0400 (Mon, 17 Apr 2023) EllapsedTime: 151.0 seconds RetCode: 0 Status: OK PackageFile: pqsfinder_2.14.1.tar.gz PackageFileSize: 354.7 KiB