Package: proActiv
Version: 1.8.0
Command: /Library/Frameworks/R.framework/Resources/bin/R CMD INSTALL proActiv
StartedAt: 2023-04-16 18:10:51 -0400 (Sun, 16 Apr 2023)
EndedAt: 2023-04-16 18:11:57 -0400 (Sun, 16 Apr 2023)
EllapsedTime: 66.0 seconds
RetCode: 0
Status: OK