Package: proBatch Version: 1.14.0 Command: /Library/Frameworks/R.framework/Resources/bin/R CMD build --keep-empty-dirs --no-resave-data proBatch StartedAt: 2023-04-17 22:32:50 -0400 (Mon, 17 Apr 2023) EndedAt: 2023-04-17 22:34:54 -0400 (Mon, 17 Apr 2023) EllapsedTime: 124.0 seconds RetCode: 0 Status: OK PackageFile: proBatch_1.14.0.tar.gz PackageFileSize: 2.691 MiB