Package: ptairMS Version: 1.6.0 Command: /Library/Frameworks/R.framework/Resources/bin/R CMD INSTALL ptairMS StartedAt: 2023-04-16 18:36:13 -0400 (Sun, 16 Apr 2023) EndedAt: 2023-04-16 18:36:46 -0400 (Sun, 16 Apr 2023) EllapsedTime: 33.0 seconds RetCode: 0 Status: OK