Package: puma Version: 3.40.0 Command: /Library/Frameworks/R.framework/Resources/bin/R CMD build --keep-empty-dirs --no-resave-data puma StartedAt: 2023-04-17 22:55:33 -0400 (Mon, 17 Apr 2023) EndedAt: 2023-04-17 22:57:31 -0400 (Mon, 17 Apr 2023) EllapsedTime: 117.8 seconds RetCode: 0 Status: OK PackageFile: puma_3.40.0.tar.gz PackageFileSize: 3.404 MiB