Package: puma Version: 3.40.0 Command: /Library/Frameworks/R.framework/Resources/bin/R CMD INSTALL puma StartedAt: 2023-04-16 15:21:42 -0400 (Sun, 16 Apr 2023) EndedAt: 2023-04-16 15:22:55 -0400 (Sun, 16 Apr 2023) EllapsedTime: 72.7 seconds RetCode: 0 Status: OK