git_url: https://git.bioconductor.org/packages/pvac git_branch: RELEASE_3_16 git_last_commit: e1455d6 git_last_commit_date: 2022-11-01 11:05:36 -0400 (Tue, 01 Nov 2022) Package: pvac Version: 1.46.0 Maintainer: Jun Lu , Pierre R. Bushel MaintainerEmail: bushel at niehs.nih.gov