Package: qPLEXanalyzer Version: 1.16.1 Command: /Library/Frameworks/R.framework/Resources/bin/R CMD INSTALL qPLEXanalyzer StartedAt: 2023-04-16 15:23:14 -0400 (Sun, 16 Apr 2023) EndedAt: 2023-04-16 15:23:54 -0400 (Sun, 16 Apr 2023) EllapsedTime: 39.4 seconds RetCode: 0 Status: OK