Package: quantiseqr Version: 1.6.0 Command: /Library/Frameworks/R.framework/Resources/bin/R CMD build --keep-empty-dirs --no-resave-data quantiseqr StartedAt: 2023-04-17 23:31:56 -0400 (Mon, 17 Apr 2023) EndedAt: 2023-04-17 23:32:50 -0400 (Mon, 17 Apr 2023) EllapsedTime: 54.7 seconds RetCode: 1 Status: ERROR PackageFile: None PackageFileSize: NA