Package: quantro Version: 1.32.0 Command: /Library/Frameworks/R.framework/Resources/bin/R CMD build --keep-empty-dirs --no-resave-data quantro StartedAt: 2023-04-17 23:32:51 -0400 (Mon, 17 Apr 2023) EndedAt: 2023-04-17 23:35:21 -0400 (Mon, 17 Apr 2023) EllapsedTime: 150.6 seconds RetCode: 0 Status: OK PackageFile: quantro_1.32.0.tar.gz PackageFileSize: 2.732 <A href="http://en.wikipedia.org/wiki/MiB" target="_blank">MiB</A>