Package: randPack Version: 1.44.0 Command: rm -rf randPack.buildbin-libdir && mkdir randPack.buildbin-libdir && /Users/biocbuild/BBS/utils/build-universal.sh randPack_1.44.0.tar.gz /Library/Frameworks/R.framework/Resources/bin/R randPack.buildbin-libdir StartedAt: 2023-04-18 18:34:21 -0400 (Tue, 18 Apr 2023) EndedAt: 2023-04-18 18:34:34 -0400 (Tue, 18 Apr 2023) EllapsedTime: 12.2 seconds RetCode: 0 Status: OK PackageFile: randPack_1.44.0.tgz PackageFileSize: 449.4 KiB