Package: rcellminer Version: 2.20.0 Command: /Library/Frameworks/R.framework/Resources/bin/R CMD build --keep-empty-dirs --no-resave-data rcellminer StartedAt: 2023-04-18 00:10:15 -0400 (Tue, 18 Apr 2023) EndedAt: 2023-04-18 00:13:40 -0400 (Tue, 18 Apr 2023) EllapsedTime: 205.5 seconds RetCode: 0 Status: OK PackageFile: rcellminer_2.20.0.tar.gz PackageFileSize: 2.096 MiB