Package: recountmethylation Version: 1.8.6 Command: /Library/Frameworks/R.framework/Resources/bin/R CMD build --keep-empty-dirs --no-resave-data recountmethylation StartedAt: 2023-04-18 00:26:28 -0400 (Tue, 18 Apr 2023) EndedAt: 2023-04-18 00:29:03 -0400 (Tue, 18 Apr 2023) EllapsedTime: 155.3 seconds RetCode: 0 Status: OK PackageFile: recountmethylation_1.8.6.tar.gz PackageFileSize: 4.785 MiB