Package: recoup Version: 1.26.0 Command: /Library/Frameworks/R.framework/Resources/bin/R CMD INSTALL recoup StartedAt: 2023-04-16 16:35:08 -0400 (Sun, 16 Apr 2023) EndedAt: 2023-04-16 16:36:26 -0400 (Sun, 16 Apr 2023) EllapsedTime: 77.8 seconds RetCode: 0 Status: OK