Package: regioneR Version: 1.30.0 Command: /Library/Frameworks/R.framework/Resources/bin/R CMD INSTALL regioneR StartedAt: 2023-04-16 16:23:37 -0400 (Sun, 16 Apr 2023) EndedAt: 2023-04-16 16:24:24 -0400 (Sun, 16 Apr 2023) EllapsedTime: 47.1 seconds RetCode: 0 Status: OK