Package: regsplice Version: 1.24.0 Command: /Library/Frameworks/R.framework/Resources/bin/R CMD INSTALL regsplice StartedAt: 2023-04-16 18:57:38 -0400 (Sun, 16 Apr 2023) EndedAt: 2023-04-16 18:58:08 -0400 (Sun, 16 Apr 2023) EllapsedTime: 30.3 seconds RetCode: 0 Status: OK