Package: regutools Version: 1.10.0 Command: /Library/Frameworks/R.framework/Resources/bin/R CMD build --keep-empty-dirs --no-resave-data regutools StartedAt: 2023-04-18 00:35:50 -0400 (Tue, 18 Apr 2023) EndedAt: 2023-04-18 00:37:36 -0400 (Tue, 18 Apr 2023) EllapsedTime: 106.4 seconds RetCode: 0 Status: OK PackageFile: regutools_1.10.0.tar.gz PackageFileSize: 372.6 KiB