Package: rmspc Version: 1.4.0 Command: /Library/Frameworks/R.framework/Resources/bin/R CMD INSTALL rmspc StartedAt: 2023-04-16 17:23:21 -0400 (Sun, 16 Apr 2023) EndedAt: 2023-04-16 17:24:10 -0400 (Sun, 16 Apr 2023) EllapsedTime: 48.4 seconds RetCode: 0 Status: OK