Package: roar Version: 1.34.0 Command: rm -rf roar.buildbin-libdir && mkdir roar.buildbin-libdir && /Users/biocbuild/BBS/utils/build-universal.sh roar_1.34.0.tar.gz /Library/Frameworks/R.framework/Resources/bin/R roar.buildbin-libdir StartedAt: 2023-04-18 19:02:39 -0400 (Tue, 18 Apr 2023) EndedAt: 2023-04-18 19:04:05 -0400 (Tue, 18 Apr 2023) EllapsedTime: 85.3 seconds RetCode: 0 Status: OK PackageFile: roar_1.34.0.tgz PackageFileSize: 1.236 MiB