Package: rpx Version: 2.6.3 Command: /Library/Frameworks/R.framework/Resources/bin/R CMD INSTALL rpx StartedAt: 2023-04-16 15:07:47 -0400 (Sun, 16 Apr 2023) EndedAt: 2023-04-16 15:07:58 -0400 (Sun, 16 Apr 2023) EllapsedTime: 11.7 seconds RetCode: 0 Status: OK