Back to Mac ARM64 build report for BioC 3.16 |
|
This page was generated on 2023-04-19 11:01:51 -0400 (Wed, 19 Apr 2023).
Hostname | OS | Arch (*) | R version | Installed pkgs |
---|---|---|---|---|
kjohnson | macOS 13.0 Ventura | arm64 | 4.2.2 (2022-10-31) -- "Innocent and Trusting" | 4256 |
Click on any hostname to see more info about the system (e.g. compilers) (*) as reported by 'uname -p', except on Windows and Mac OS X |
To the developers/maintainers of the rtracklayer package: Make sure to use the following settings in order to reproduce any error or warning you see on this page. |
Package 1748/2183 | Hostname | OS / Arch | INSTALL | BUILD | BUILD BIN | ||||||||
rtracklayer 1.58.0 (landing page) Michael Lawrence
| kjohnson | macOS 13.0 Ventura / arm64 | OK | OK | OK | ||||||||
QUICK STATS | OS / Arch | INSTALL | BUILD | BUILD BIN | |||||||||||||
kjohnson | macOS 13.0 Ventura / arm64 |
|
|
| |||||||||||||
Package 1/173 | Hostname | OS / Arch | INSTALL | BUILD | BUILD BIN | ||||||||||||
AnnotationHubData 1.28.0 (landing page) Bioconductor Package Maintainer
| kjohnson | macOS 13.0 Ventura / arm64 | OK | OK | OK | ||||||||||||
Package 2/173 | Hostname | OS / Arch | INSTALL | BUILD | BUILD BIN | ||||||||||||
annotatr 1.24.0 (landing page) Raymond G. Cavalcante
| kjohnson | macOS 13.0 Ventura / arm64 | OK | OK | OK | ||||||||||||
Package 3/173 | Hostname | OS / Arch | INSTALL | BUILD | BUILD BIN | ||||||||||||
APAlyzer 1.12.0 (landing page) Ruijia Wang
| kjohnson | macOS 13.0 Ventura / arm64 | OK | OK | OK | ||||||||||||
Package 4/173 | Hostname | OS / Arch | INSTALL | BUILD | BUILD BIN | ||||||||||||
ASpediaFI 1.12.0 (landing page) Doyeong Yu
| kjohnson | macOS 13.0 Ventura / arm64 | ERROR | ERROR | skipped | ||||||||||||
Package 5/173 | Hostname | OS / Arch | INSTALL | BUILD | BUILD BIN | ||||||||||||
ATACseqQC 1.22.0 (landing page) Jianhong Ou
| kjohnson | macOS 13.0 Ventura / arm64 | OK | OK | OK | ||||||||||||
Package 6/173 | Hostname | OS / Arch | INSTALL | BUILD | BUILD BIN | ||||||||||||
ballgown 2.30.0 (landing page) Jack Fu
| kjohnson | macOS 13.0 Ventura / arm64 | OK | OK | OK | ||||||||||||
Package 7/173 | Hostname | OS / Arch | INSTALL | BUILD | BUILD BIN | ||||||||||||
BgeeCall 1.14.0 (landing page) Julien Wollbrett
| kjohnson | macOS 13.0 Ventura / arm64 | OK | OK | OK | ||||||||||||
Package 8/173 | Hostname | OS / Arch | INSTALL | BUILD | BUILD BIN | ||||||||||||
BindingSiteFinder 1.4.0 (landing page) Mirko Brüggemann
| kjohnson | macOS 13.0 Ventura / arm64 | OK | OK | OK | ||||||||||||
Package 9/173 | Hostname | OS / Arch | INSTALL | BUILD | BUILD BIN | ||||||||||||
biscuiteer 1.12.0 (landing page) Jacob Morrison
| kjohnson | macOS 13.0 Ventura / arm64 | OK | OK | OK | ||||||||||||
Package 10/173 | Hostname | OS / Arch | INSTALL | BUILD | BUILD BIN | ||||||||||||
BiSeq 1.38.0 (landing page) Katja Hebestreit
| kjohnson | macOS 13.0 Ventura / arm64 | OK | OK | OK | ||||||||||||
Package 11/173 | Hostname | OS / Arch | INSTALL | BUILD | BUILD BIN | ||||||||||||
branchpointer 1.24.0 (landing page) Beth Signal
| kjohnson | macOS 13.0 Ventura / arm64 | OK | OK | OK | ||||||||||||
Package 12/173 | Hostname | OS / Arch | INSTALL | BUILD | BUILD BIN | ||||||||||||
BRGenomics 1.10.0 (landing page) Mike DeBerardine
| kjohnson | macOS 13.0 Ventura / arm64 | OK | OK | OK | ||||||||||||
Package 13/173 | Hostname | OS / Arch | INSTALL | BUILD | BUILD BIN | ||||||||||||
BSgenome 1.66.3 (landing page) Hervé Pagès
| kjohnson | macOS 13.0 Ventura / arm64 | OK | OK | OK | ||||||||||||
Package 14/173 | Hostname | OS / Arch | INSTALL | BUILD | BUILD BIN | ||||||||||||
CAGEfightR 1.18.0 (landing page) Malte Thodberg
| kjohnson | macOS 13.0 Ventura / arm64 | OK | OK | OK | ||||||||||||
Package 15/173 | Hostname | OS / Arch | INSTALL | BUILD | BUILD BIN | ||||||||||||
CAGEr 2.4.0 (landing page) Charles Plessy
| kjohnson | macOS 13.0 Ventura / arm64 | OK | OK | OK | ||||||||||||
Package 16/173 | Hostname | OS / Arch | INSTALL | BUILD | BUILD BIN | ||||||||||||
casper 2.32.0 (landing page) David Rossell
| kjohnson | macOS 13.0 Ventura / arm64 | OK | ERROR | skipped | ||||||||||||
Package 17/173 | Hostname | OS / Arch | INSTALL | BUILD | BUILD BIN | ||||||||||||
CexoR 1.36.0 (landing page) Pedro Madrigal
| kjohnson | macOS 13.0 Ventura / arm64 | OK | OK | OK | ||||||||||||
Package 18/173 | Hostname | OS / Arch | INSTALL | BUILD | BUILD BIN | ||||||||||||
ChIPanalyser 1.20.0 (landing page) Patrick C.N. Martin
| kjohnson | macOS 13.0 Ventura / arm64 | OK | OK | OK | ||||||||||||
Package 19/173 | Hostname | OS / Arch | INSTALL | BUILD | BUILD BIN | ||||||||||||
ChIPComp 1.28.0 (landing page) Li Chen
| kjohnson | macOS 13.0 Ventura / arm64 | OK | OK | OK | ||||||||||||
Package 20/173 | Hostname | OS / Arch | INSTALL | BUILD | BUILD BIN | ||||||||||||
chipenrich 2.22.0 (landing page) Raymond G. Cavalcante
| kjohnson | macOS 13.0 Ventura / arm64 | OK | OK | OK | ||||||||||||
Package 21/173 | Hostname | OS / Arch | INSTALL | BUILD | BUILD BIN | ||||||||||||
ChIPpeakAnno 3.32.0 (landing page) Jianhong Ou
| kjohnson | macOS 13.0 Ventura / arm64 | OK | OK | OK | ||||||||||||
Package 22/173 | Hostname | OS / Arch | INSTALL | BUILD | BUILD BIN | ||||||||||||
ChIPseeker 1.34.1 (landing page) Guangchuang Yu
| kjohnson | macOS 13.0 Ventura / arm64 | OK | OK | OK | ||||||||||||
Package 23/173 | Hostname | OS / Arch | INSTALL | BUILD | BUILD BIN | ||||||||||||
ChromHeatMap 1.52.0 (landing page) Tim F. Rayner
| kjohnson | macOS 13.0 Ventura / arm64 | OK | OK | OK | ||||||||||||
Package 24/173 | Hostname | OS / Arch | INSTALL | BUILD | BUILD BIN | ||||||||||||
ChromSCape 1.8.0 (landing page) Pacome Prompsy
| kjohnson | macOS 13.0 Ventura / arm64 | OK | OK | OK | ||||||||||||
Package 25/173 | Hostname | OS / Arch | INSTALL | BUILD | BUILD BIN | ||||||||||||
chromswitch 1.20.0 (landing page) Selin Jessa
| kjohnson | macOS 13.0 Ventura / arm64 | OK | OK | OK | ||||||||||||
Package 26/173 | Hostname | OS / Arch | INSTALL | BUILD | BUILD BIN | ||||||||||||
circRNAprofiler 1.12.2 (landing page) Simona Aufiero
| kjohnson | macOS 13.0 Ventura / arm64 | OK | OK | OK | ||||||||||||
Package 27/173 | Hostname | OS / Arch | INSTALL | BUILD | BUILD BIN | ||||||||||||
cliProfiler 1.4.0 (landing page) You Zhou
| kjohnson | macOS 13.0 Ventura / arm64 | OK | OK | OK | ||||||||||||
Package 28/173 | Hostname | OS / Arch | INSTALL | BUILD | BUILD BIN | ||||||||||||
CNEr 1.34.0 (landing page) Ge Tan
| kjohnson | macOS 13.0 Ventura / arm64 | OK | OK | OK | ||||||||||||
Package 29/173 | Hostname | OS / Arch | INSTALL | BUILD | BUILD BIN | ||||||||||||
coMET 1.30.0 (landing page) Tiphaine Martin
| kjohnson | macOS 13.0 Ventura / arm64 | OK | OK | OK | ||||||||||||
Package 30/173 | Hostname | OS / Arch | INSTALL | BUILD | BUILD BIN | ||||||||||||
compartmap 1.16.0 (landing page) Benjamin Johnson
| kjohnson | macOS 13.0 Ventura / arm64 | OK | OK | OK | ||||||||||||
Package 31/173 | Hostname | OS / Arch | INSTALL | BUILD | BUILD BIN | ||||||||||||
consensusSeekeR 1.26.0 (landing page) Astrid Deschenes
| kjohnson | macOS 13.0 Ventura / arm64 | OK | OK | OK | ||||||||||||
Package 32/173 | Hostname | OS / Arch | INSTALL | BUILD | BUILD BIN | ||||||||||||
contiBAIT 1.26.0 (landing page) Kieran O'Neill
| kjohnson | macOS 13.0 Ventura / arm64 | OK | OK | OK | ||||||||||||
Package 33/173 | Hostname | OS / Arch | INSTALL | BUILD | BUILD BIN | ||||||||||||
conumee 1.32.0 (landing page) Volker Hovestadt
| kjohnson | macOS 13.0 Ventura / arm64 | OK | OK | OK | ||||||||||||
Package 34/173 | Hostname | OS / Arch | INSTALL | BUILD | BUILD BIN | ||||||||||||
CoverageView 1.36.0 (landing page) Ernesto Lowy
| kjohnson | macOS 13.0 Ventura / arm64 | OK | OK | OK | ||||||||||||
Package 35/173 | Hostname | OS / Arch | INSTALL | BUILD | BUILD BIN | ||||||||||||
crisprDesign 1.0.0 (landing page) Jean-Philippe Fortin
| kjohnson | macOS 13.0 Ventura / arm64 | OK | OK | OK | ||||||||||||
Package 36/173 | Hostname | OS / Arch | INSTALL | BUILD | BUILD BIN | ||||||||||||
CSSQ 1.10.0 (landing page) Fan Lab at Georgia Institute of Technology
| kjohnson | macOS 13.0 Ventura / arm64 | OK | OK | OK | ||||||||||||
Package 37/173 | Hostname | OS / Arch | INSTALL | BUILD | BUILD BIN | ||||||||||||
cummeRbund 2.40.0 (landing page) Loyal A. Goff
| kjohnson | macOS 13.0 Ventura / arm64 | OK | OK | OK | ||||||||||||
Package 38/173 | Hostname | OS / Arch | INSTALL | BUILD | BUILD BIN | ||||||||||||
customProDB 1.38.0 (landing page) Xiaojing Wang
| kjohnson | macOS 13.0 Ventura / arm64 | OK | OK | OK | ||||||||||||
Package 39/173 | Hostname | OS / Arch | INSTALL | BUILD | BUILD BIN | ||||||||||||
dasper 1.8.0 (landing page) David Zhang
| kjohnson | macOS 13.0 Ventura / arm64 | OK | ERROR | skipped | ||||||||||||
Package 40/173 | Hostname | OS / Arch | INSTALL | BUILD | BUILD BIN | ||||||||||||
DeepBlueR 1.24.1 (landing page) Felipe Albrecht
| kjohnson | macOS 13.0 Ventura / arm64 | OK | OK | OK | ||||||||||||
Package 41/173 | Hostname | OS / Arch | INSTALL | BUILD | BUILD BIN | ||||||||||||
derfinder 1.32.0 (landing page) Leonardo Collado-Torres
| kjohnson | macOS 13.0 Ventura / arm64 | OK | OK | OK | ||||||||||||
Package 42/173 | Hostname | OS / Arch | INSTALL | BUILD | BUILD BIN | ||||||||||||
DEScan2 1.18.2 (landing page) Dario Righelli
| kjohnson | macOS 13.0 Ventura / arm64 | OK | OK | OK | ||||||||||||
Package 43/173 | Hostname | OS / Arch | INSTALL | BUILD | BUILD BIN | ||||||||||||
diffHic 1.30.0 (landing page) Aaron Lun
| kjohnson | macOS 13.0 Ventura / arm64 | OK | OK | OK | ||||||||||||
Package 44/173 | Hostname | OS / Arch | INSTALL | BUILD | BUILD BIN | ||||||||||||
diffUTR 1.6.0 (landing page) Pierre-Luc Germain
| kjohnson | macOS 13.0 Ventura / arm64 | OK | OK | OK | ||||||||||||
Package 45/173 | Hostname | OS / Arch | INSTALL | BUILD | BUILD BIN | ||||||||||||
DMCFB 1.12.0 (landing page) Farhad Shokoohi
| kjohnson | macOS 13.0 Ventura / arm64 | OK | OK | OK | ||||||||||||
Package 46/173 | Hostname | OS / Arch | INSTALL | BUILD | BUILD BIN | ||||||||||||
DMCHMM 1.20.0 (landing page) Farhad Shokoohi
| kjohnson | macOS 13.0 Ventura / arm64 | OK | OK | OK | ||||||||||||
Package 47/173 | Hostname | OS / Arch | INSTALL | BUILD | BUILD BIN | ||||||||||||
dmrseq 1.18.1 (landing page) Keegan Korthauer
| kjohnson | macOS 13.0 Ventura / arm64 | OK | OK | OK | ||||||||||||
Package 48/173 | Hostname | OS / Arch | INSTALL | BUILD | BUILD BIN | ||||||||||||
ELMER 2.22.0 (landing page) Tiago Chedraoui Silva
| kjohnson | macOS 13.0 Ventura / arm64 | OK | OK | OK | ||||||||||||
Package 49/173 | Hostname | OS / Arch | INSTALL | BUILD | BUILD BIN | ||||||||||||
enhancerHomologSearch 1.4.2 (landing page) Jianhong Ou
| kjohnson | macOS 13.0 Ventura / arm64 | OK | OK | OK | ||||||||||||
Package 50/173 | Hostname | OS / Arch | INSTALL | BUILD | BUILD BIN | ||||||||||||
enrichTF 1.14.0 (landing page) Zheng Wei
| kjohnson | macOS 13.0 Ventura / arm64 | OK | OK | OK | ||||||||||||
Package 51/173 | Hostname | OS / Arch | INSTALL | BUILD | BUILD BIN | ||||||||||||
ensembldb 2.22.0 (landing page) Johannes Rainer
| kjohnson | macOS 13.0 Ventura / arm64 | OK | OK | OK | ||||||||||||
Package 52/173 | Hostname | OS / Arch | INSTALL | BUILD | BUILD BIN | ||||||||||||
EpiCompare 1.2.0 (landing page) Sera Choi
| kjohnson | macOS 13.0 Ventura / arm64 | OK | OK | OK | ||||||||||||
Package 53/173 | Hostname | OS / Arch | INSTALL | BUILD | BUILD BIN | ||||||||||||
epidecodeR 1.6.0 (landing page) Kandarp Joshi
| kjohnson | macOS 13.0 Ventura / arm64 | OK | OK | OK | ||||||||||||
Package 54/173 | Hostname | OS / Arch | INSTALL | BUILD | BUILD BIN | ||||||||||||
epigraHMM 1.6.4 (landing page) Pedro Baldoni
| kjohnson | macOS 13.0 Ventura / arm64 | OK | OK | OK | ||||||||||||
Package 55/173 | Hostname | OS / Arch | INSTALL | BUILD | BUILD BIN | ||||||||||||
epimutacions 1.2.0 (landing page) Dolors Pelegri-Siso
| kjohnson | macOS 13.0 Ventura / arm64 | OK | OK | OK | ||||||||||||
Package 56/173 | Hostname | OS / Arch | INSTALL | BUILD | BUILD BIN | ||||||||||||
erma 1.14.0 (landing page) VJ Carey
| kjohnson | macOS 13.0 Ventura / arm64 | OK | OK | OK | ||||||||||||
Package 57/173 | Hostname | OS / Arch | INSTALL | BUILD | BUILD BIN | ||||||||||||
esATAC 1.20.0 (landing page) Zheng Wei
| kjohnson | macOS 13.0 Ventura / arm64 | OK | OK | OK | ||||||||||||
Package 58/173 | Hostname | OS / Arch | INSTALL | BUILD | BUILD BIN | ||||||||||||
ExCluster 1.16.0 (landing page) R. Matthew Tanner
| kjohnson | macOS 13.0 Ventura / arm64 | OK | OK | OK | ||||||||||||
Package 59/173 | Hostname | OS / Arch | INSTALL | BUILD | BUILD BIN | ||||||||||||
exomePeak2 1.10.0 (landing page) Zhen Wei
| kjohnson | macOS 13.0 Ventura / arm64 | OK | OK | OK | ||||||||||||
Package 60/173 | Hostname | OS / Arch | INSTALL | BUILD | BUILD BIN | ||||||||||||
extraChIPs 1.2.4 (landing page) Stephen Pederson
| kjohnson | macOS 13.0 Ventura / arm64 | OK | OK | OK | ||||||||||||
Package 61/173 | Hostname | OS / Arch | INSTALL | BUILD | BUILD BIN | ||||||||||||
factR 1.0.0 (landing page) Fursham Hamid
| kjohnson | macOS 13.0 Ventura / arm64 | OK | OK | OK | ||||||||||||
Package 62/173 | Hostname | OS / Arch | INSTALL | BUILD | BUILD BIN | ||||||||||||
fcScan 1.12.0 (landing page) Pierre Khoueiry
| kjohnson | macOS 13.0 Ventura / arm64 | OK | OK | OK | ||||||||||||
Package 63/173 | Hostname | OS / Arch | INSTALL | BUILD | BUILD BIN | ||||||||||||
FindIT2 1.4.0 (landing page) Guandong Shang
| kjohnson | macOS 13.0 Ventura / arm64 | OK | OK | OK | ||||||||||||
Package 64/173 | Hostname | OS / Arch | INSTALL | BUILD | BUILD BIN | ||||||||||||
FLAMES 1.4.3 (landing page) Oliver Voogd
| kjohnson | macOS 13.0 Ventura / arm64 | OK | OK | OK | ||||||||||||
Package 65/173 | Hostname | OS / Arch | INSTALL | BUILD | BUILD BIN | ||||||||||||
genbankr 1.26.0 (landing page) Gabriel Becker
| kjohnson | macOS 13.0 Ventura / arm64 | OK | OK | OK | ||||||||||||
Package 66/173 | Hostname | OS / Arch | INSTALL | BUILD | BUILD BIN | ||||||||||||
geneAttribution 1.24.0 (landing page) Arthur Wuster
| kjohnson | macOS 13.0 Ventura / arm64 | OK | OK | OK | ||||||||||||
Package 67/173 | Hostname | OS / Arch | INSTALL | BUILD | BUILD BIN | ||||||||||||
GeneStructureTools 1.18.0 (landing page) Beth Signal
| kjohnson | macOS 13.0 Ventura / arm64 | OK | OK | OK | ||||||||||||
Package 68/173 | Hostname | OS / Arch | INSTALL | BUILD | BUILD BIN | ||||||||||||
geneXtendeR 1.24.0 (landing page) Bohdan Khomtchouk
| kjohnson | macOS 13.0 Ventura / arm64 | OK | OK | OK | ||||||||||||
Package 69/173 | Hostname | OS / Arch | INSTALL | BUILD | BUILD BIN | ||||||||||||
genomation 1.30.0 (landing page) Altuna Akalin
| kjohnson | macOS 13.0 Ventura / arm64 | OK | OK | OK | ||||||||||||
Package 70/173 | Hostname | OS / Arch | INSTALL | BUILD | BUILD BIN | ||||||||||||
GenomicFeatures 1.50.4 (landing page) H. Pagès
| kjohnson | macOS 13.0 Ventura / arm64 | OK | OK | OK | ||||||||||||
Package 71/173 | Hostname | OS / Arch | INSTALL | BUILD | BUILD BIN | ||||||||||||
GenomicFiles 1.34.0 (landing page) Bioconductor Package Maintainer
| kjohnson | macOS 13.0 Ventura / arm64 | OK | OK | OK | ||||||||||||
Package 72/173 | Hostname | OS / Arch | INSTALL | BUILD | BUILD BIN | ||||||||||||
GenomicInteractions 1.32.0 (landing page) Liz Ing-Simmons
| kjohnson | macOS 13.0 Ventura / arm64 | OK | OK | OK | ||||||||||||
Package 73/173 | Hostname | OS / Arch | INSTALL | BUILD | BUILD BIN | ||||||||||||
genotypeeval 1.30.0 (landing page) Jennifer Tom
| kjohnson | macOS 13.0 Ventura / arm64 | OK | OK | OK | ||||||||||||
Package 74/173 | Hostname | OS / Arch | INSTALL | BUILD | BUILD BIN | ||||||||||||
ggbio 1.46.0 (landing page) Michael Lawrence
| kjohnson | macOS 13.0 Ventura / arm64 | OK | OK | OK | ||||||||||||
Package 75/173 | Hostname | OS / Arch | INSTALL | BUILD | BUILD BIN | ||||||||||||
gmapR 1.40.0 (landing page) Michael Lawrence
| kjohnson | macOS 13.0 Ventura / arm64 | ERROR | ERROR | skipped | ||||||||||||
Package 76/173 | Hostname | OS / Arch | INSTALL | BUILD | BUILD BIN | ||||||||||||
gmoviz 1.10.0 (landing page) Kathleen Zeglinski
| kjohnson | macOS 13.0 Ventura / arm64 | OK | OK | OK | ||||||||||||
Package 77/173 | Hostname | OS / Arch | INSTALL | BUILD | BUILD BIN | ||||||||||||
GOTHiC 1.34.0 (landing page) Borbala Mifsud
| kjohnson | macOS 13.0 Ventura / arm64 | OK | OK | OK | ||||||||||||
Package 78/173 | Hostname | OS / Arch | INSTALL | BUILD | BUILD BIN | ||||||||||||
GreyListChIP 1.30.0 (landing page) Rory Stark
| kjohnson | macOS 13.0 Ventura / arm64 | OK | OK | OK | ||||||||||||
Package 79/173 | Hostname | OS / Arch | INSTALL | BUILD | BUILD BIN | ||||||||||||
groHMM 1.32.0 (landing page) Tulip Nandu
| kjohnson | macOS 13.0 Ventura / arm64 | OK | OK | OK | ||||||||||||
Package 80/173 | Hostname | OS / Arch | INSTALL | BUILD | BUILD BIN | ||||||||||||
Guitar 2.14.0 (landing page) Jia Meng
| kjohnson | macOS 13.0 Ventura / arm64 | OK | OK | OK | ||||||||||||
Package 81/173 | Hostname | OS / Arch | INSTALL | BUILD | BUILD BIN | ||||||||||||
Gviz 1.42.1 (landing page) Robert Ivanek
| kjohnson | macOS 13.0 Ventura / arm64 | OK | OK | OK | ||||||||||||
Package 82/173 | Hostname | OS / Arch | INSTALL | BUILD | BUILD BIN | ||||||||||||
HelloRanges 1.24.0 (landing page) Michael Lawrence
| kjohnson | macOS 13.0 Ventura / arm64 | OK | OK | OK | ||||||||||||
Package 83/173 | Hostname | OS / Arch | INSTALL | BUILD | BUILD BIN | ||||||||||||
hiAnnotator 1.32.0 (landing page) Nirav V Malani
| kjohnson | macOS 13.0 Ventura / arm64 | OK | OK | OK | ||||||||||||
Package 84/173 | Hostname | OS / Arch | INSTALL | BUILD | BUILD BIN | ||||||||||||
HiCDCPlus 1.6.0 (landing page) Merve Sahin
| kjohnson | macOS 13.0 Ventura / arm64 | OK | OK | OK | ||||||||||||
Package 85/173 | Hostname | OS / Arch | INSTALL | BUILD | BUILD BIN | ||||||||||||
HiTC 1.42.0 (landing page) Nicolas Servant
| kjohnson | macOS 13.0 Ventura / arm64 | OK | OK | OK | ||||||||||||
Package 86/173 | Hostname | OS / Arch | INSTALL | BUILD | BUILD BIN | ||||||||||||
icetea 1.16.0 (landing page) Vivek Bhardwaj
| kjohnson | macOS 13.0 Ventura / arm64 | OK | OK | OK | ||||||||||||
Package 87/173 | Hostname | OS / Arch | INSTALL | BUILD | BUILD BIN | ||||||||||||
IdeoViz 1.34.0 (landing page) Shraddha Pai
| kjohnson | macOS 13.0 Ventura / arm64 | OK | OK | OK | ||||||||||||
Package 88/173 | Hostname | OS / Arch | INSTALL | BUILD | BUILD BIN | ||||||||||||
igvR 1.18.1 (landing page) Paul Shannon
| kjohnson | macOS 13.0 Ventura / arm64 | OK | OK | OK | ||||||||||||
Package 89/173 | Hostname | OS / Arch | INSTALL | BUILD | BUILD BIN | ||||||||||||
INSPEcT 1.28.0 (landing page) Stefano de Pretis
| kjohnson | macOS 13.0 Ventura / arm64 | OK | OK | OK | ||||||||||||
Package 90/173 | Hostname | OS / Arch | INSTALL | BUILD | BUILD BIN | ||||||||||||
InTAD 1.18.0 (landing page) Konstantin Okonechnikov
| kjohnson | macOS 13.0 Ventura / arm64 | OK | OK | OK | ||||||||||||
Package 91/173 | Hostname | OS / Arch | INSTALL | BUILD | BUILD BIN | ||||||||||||
IsoformSwitchAnalyzeR 1.20.0 (landing page) Kristoffer Vitting-Seerup
| kjohnson | macOS 13.0 Ventura / arm64 | OK | OK | OK | ||||||||||||
Package 92/173 | Hostname | OS / Arch | INSTALL | BUILD | BUILD BIN | ||||||||||||
karyoploteR 1.24.0 (landing page) Bernat Gel
| kjohnson | macOS 13.0 Ventura / arm64 | OK | OK | OK | ||||||||||||
Package 93/173 | Hostname | OS / Arch | INSTALL | BUILD | BUILD BIN | ||||||||||||
m6Aboost 1.4.0 (landing page) You Zhou
| kjohnson | macOS 13.0 Ventura / arm64 | OK | OK | OK | ||||||||||||
Package 94/173 | Hostname | OS / Arch | INSTALL | BUILD | BUILD BIN | ||||||||||||
Ioannis Vardaxis
| kjohnson | macOS 13.0 Ventura / arm64 | ERROR | ERROR | skipped | ||||||||||||
Package 95/173 | Hostname | OS / Arch | INSTALL | BUILD | BUILD BIN | ||||||||||||
MADSEQ 1.24.0 (landing page) Yu Kong
| kjohnson | macOS 13.0 Ventura / arm64 | OK | OK | OK | ||||||||||||
Package 96/173 | Hostname | OS / Arch | INSTALL | BUILD | BUILD BIN | ||||||||||||
maser 1.16.0 (landing page) Diogo F.T. Veiga
| kjohnson | macOS 13.0 Ventura / arm64 | OK | OK | OK | ||||||||||||
Package 97/173 | Hostname | OS / Arch | INSTALL | BUILD | BUILD BIN | ||||||||||||
MEDIPS 1.50.0 (landing page) Lukas Chavez
| kjohnson | macOS 13.0 Ventura / arm64 | OK | OK | OK | ||||||||||||
Package 98/173 | Hostname | OS / Arch | INSTALL | BUILD | BUILD BIN | ||||||||||||
metagene 2.30.0 (landing page) Charles Joly Beauparlant
| kjohnson | macOS 13.0 Ventura / arm64 | OK | OK | OK | ||||||||||||
Package 99/173 | Hostname | OS / Arch | INSTALL | BUILD | BUILD BIN | ||||||||||||
metagene2 1.14.0 (landing page) Eric Fournier
| kjohnson | macOS 13.0 Ventura / arm64 | OK | OK | OK | ||||||||||||
Package 100/173 | Hostname | OS / Arch | INSTALL | BUILD | BUILD BIN | ||||||||||||
metaseqR2 1.10.0 (landing page) Panagiotis Moulos
| kjohnson | macOS 13.0 Ventura / arm64 | OK | OK | OK | ||||||||||||
Package 101/173 | Hostname | OS / Arch | INSTALL | BUILD | BUILD BIN | ||||||||||||
methrix 1.12.0 (landing page) Anand Mayakonda
| kjohnson | macOS 13.0 Ventura / arm64 | OK | OK | OK | ||||||||||||
Package 102/173 | Hostname | OS / Arch | INSTALL | BUILD | BUILD BIN | ||||||||||||
methylKit 1.24.0 (landing page) Altuna Akalin
| kjohnson | macOS 13.0 Ventura / arm64 | OK | OK | OK | ||||||||||||
Package 103/173 | Hostname | OS / Arch | INSTALL | BUILD | BUILD BIN | ||||||||||||
MethylSeekR 1.38.0 (landing page) Lukas Burger
| kjohnson | macOS 13.0 Ventura / arm64 | OK | OK | OK | ||||||||||||
Package 104/173 | Hostname | OS / Arch | INSTALL | BUILD | BUILD BIN | ||||||||||||
motifbreakR 2.12.4 (landing page) Simon Gert Coetzee
| kjohnson | macOS 13.0 Ventura / arm64 | OK | TIMEOUT | skipped | ||||||||||||
Package 105/173 | Hostname | OS / Arch | INSTALL | BUILD | BUILD BIN | ||||||||||||
MotifDb 1.40.0 (landing page) Paul Shannon
| kjohnson | macOS 13.0 Ventura / arm64 | OK | OK | OK | ||||||||||||
Package 106/173 | Hostname | OS / Arch | INSTALL | BUILD | BUILD BIN | ||||||||||||
multicrispr 1.8.0 (landing page) Aditya Bhagwat
| kjohnson | macOS 13.0 Ventura / arm64 | OK | OK | OK | ||||||||||||
Package 107/173 | Hostname | OS / Arch | INSTALL | BUILD | BUILD BIN | ||||||||||||
MungeSumstats 1.6.0 (landing page) Alan Murphy
| kjohnson | macOS 13.0 Ventura / arm64 | OK | OK | OK | ||||||||||||
Package 108/173 | Hostname | OS / Arch | INSTALL | BUILD | BUILD BIN | ||||||||||||
NADfinder 1.22.0 (landing page) Jianhong Ou
| kjohnson | macOS 13.0 Ventura / arm64 | OK | OK | OK | ||||||||||||
Package 109/173 | Hostname | OS / Arch | INSTALL | BUILD | BUILD BIN | ||||||||||||
nearBynding 1.8.0 (landing page) Veronica Busa
| kjohnson | macOS 13.0 Ventura / arm64 | OK | OK | OK | ||||||||||||
Package 110/173 | Hostname | OS / Arch | INSTALL | BUILD | BUILD BIN | ||||||||||||
NoRCE 1.10.0 (landing page) Gulden Olgun
| kjohnson | macOS 13.0 Ventura / arm64 | OK | OK | OK | ||||||||||||
Package 111/173 | Hostname | OS / Arch | INSTALL | BUILD | BUILD BIN | ||||||||||||
normr 1.24.0 (landing page) Johannes Helmuth
| kjohnson | macOS 13.0 Ventura / arm64 | OK | OK | OK | ||||||||||||
Package 112/173 | Hostname | OS / Arch | INSTALL | BUILD | BUILD BIN | ||||||||||||
NxtIRFcore 1.4.0 (landing page) Alex Chit Hei Wong
| kjohnson | macOS 13.0 Ventura / arm64 | OK | OK | OK | ||||||||||||
Package 113/173 | Hostname | OS / Arch | INSTALL | BUILD | BUILD BIN | ||||||||||||
ODER 1.4.0 (landing page) David Zhang
| kjohnson | macOS 13.0 Ventura / arm64 | OK | OK | OK | ||||||||||||
Package 114/173 | Hostname | OS / Arch | INSTALL | BUILD | BUILD BIN | ||||||||||||
OGRE 1.2.0 (landing page) Sven Berres
| kjohnson | macOS 13.0 Ventura / arm64 | OK | OK | OK | ||||||||||||
Package 115/173 | Hostname | OS / Arch | INSTALL | BUILD | BUILD BIN | ||||||||||||
OMICsPCA 1.16.0 (landing page) Subhadeep Das
| kjohnson | macOS 13.0 Ventura / arm64 | OK | OK | OK | ||||||||||||
Package 116/173 | Hostname | OS / Arch | INSTALL | BUILD | BUILD BIN | ||||||||||||
ORFhunteR 1.6.0 (landing page) Vasily V. Grinev
| kjohnson | macOS 13.0 Ventura / arm64 | OK | OK | OK | ||||||||||||
Package 117/173 | Hostname | OS / Arch | INSTALL | BUILD | BUILD BIN | ||||||||||||
ORFik 1.18.2 (landing page) Haakon Tjeldnes
| kjohnson | macOS 13.0 Ventura / arm64 | OK | OK | OK | ||||||||||||
Package 118/173 | Hostname | OS / Arch | INSTALL | BUILD | BUILD BIN | ||||||||||||
PAST 1.14.0 (landing page) Thrash Adam
| kjohnson | macOS 13.0 Ventura / arm64 | OK | OK | OK | ||||||||||||
Package 119/173 | Hostname | OS / Arch | INSTALL | BUILD | BUILD BIN | ||||||||||||
periodicDNA 1.8.0 (landing page) Jacques Serizay
| kjohnson | macOS 13.0 Ventura / arm64 | OK | OK | OK | ||||||||||||
Package 120/173 | Hostname | OS / Arch | INSTALL | BUILD | BUILD BIN | ||||||||||||
plyranges 1.18.0 (landing page) Stuart Lee
| kjohnson | macOS 13.0 Ventura / arm64 | OK | OK | OK | ||||||||||||
Package 121/173 | Hostname | OS / Arch | INSTALL | BUILD | BUILD BIN | ||||||||||||
pram 1.14.0 (landing page) Peng Liu
| kjohnson | macOS 13.0 Ventura / arm64 | OK | OK | OK | ||||||||||||
Package 122/173 | Hostname | OS / Arch | INSTALL | BUILD | BUILD BIN | ||||||||||||
primirTSS 1.16.0 (landing page) Pumin Li
| kjohnson | macOS 13.0 Ventura / arm64 | OK | OK | OK | ||||||||||||
Package 123/173 | Hostname | OS / Arch | INSTALL | BUILD | BUILD BIN | ||||||||||||
proBAMr 1.32.0 (landing page) Xiaojing Wang
| kjohnson | macOS 13.0 Ventura / arm64 | OK | OK | OK | ||||||||||||
Package 124/173 | Hostname | OS / Arch | INSTALL | BUILD | BUILD BIN | ||||||||||||
profileplyr 1.14.1 (landing page) Tom Carroll
| kjohnson | macOS 13.0 Ventura / arm64 | OK | OK | OK | ||||||||||||
Package 125/173 | Hostname | OS / Arch | INSTALL | BUILD | BUILD BIN | ||||||||||||
PureCN 2.4.0 (landing page) Markus Riester
| kjohnson | macOS 13.0 Ventura / arm64 | OK | OK | OK | ||||||||||||
Package 126/173 | Hostname | OS / Arch | INSTALL | BUILD | BUILD BIN | ||||||||||||
qsea 1.24.0 (landing page) Matthias Lienhard
| kjohnson | macOS 13.0 Ventura / arm64 | OK | OK | OK | ||||||||||||
Package 127/173 | Hostname | OS / Arch | INSTALL | BUILD | BUILD BIN | ||||||||||||
QuasR 1.38.0 (landing page) Michael Stadler
| kjohnson | macOS 13.0 Ventura / arm64 | OK | OK | OK | ||||||||||||
Package 128/173 | Hostname | OS / Arch | INSTALL | BUILD | BUILD BIN | ||||||||||||
r3Cseq 1.44.0 (landing page) Supat Thongjuea
| kjohnson | macOS 13.0 Ventura / arm64 | OK | OK | OK | ||||||||||||
Package 129/173 | Hostname | OS / Arch | INSTALL | BUILD | BUILD BIN | ||||||||||||
RCAS 1.24.0 (landing page) Bora Uyar
| kjohnson | macOS 13.0 Ventura / arm64 | OK | OK | OK | ||||||||||||
Package 130/173 | Hostname | OS / Arch | INSTALL | BUILD | BUILD BIN | ||||||||||||
recount 1.24.1 (landing page) Leonardo Collado-Torres
| kjohnson | macOS 13.0 Ventura / arm64 | OK | ERROR | skipped | ||||||||||||
Package 131/173 | Hostname | OS / Arch | INSTALL | BUILD | BUILD BIN | ||||||||||||
recount3 1.8.0 (landing page) Leonardo Collado-Torres
| kjohnson | macOS 13.0 Ventura / arm64 | OK | OK | OK | ||||||||||||
Package 132/173 | Hostname | OS / Arch | INSTALL | BUILD | BUILD BIN | ||||||||||||
recoup 1.26.0 (landing page) Panagiotis Moulos
| kjohnson | macOS 13.0 Ventura / arm64 | OK | OK | OK | ||||||||||||
Package 133/173 | Hostname | OS / Arch | INSTALL | BUILD | BUILD BIN | ||||||||||||
regioneR 1.30.0 (landing page) Bernat Gel
| kjohnson | macOS 13.0 Ventura / arm64 | OK | OK | OK | ||||||||||||
Package 134/173 | Hostname | OS / Arch | INSTALL | BUILD | BUILD BIN | ||||||||||||
REMP 1.22.0 (landing page) Yinan Zheng
| kjohnson | macOS 13.0 Ventura / arm64 | OK | OK | OK | ||||||||||||
Package 135/173 | Hostname | OS / Arch | INSTALL | BUILD | BUILD BIN | ||||||||||||
Repitools 1.44.0 (landing page) Mark Robinson
| kjohnson | macOS 13.0 Ventura / arm64 | OK | OK | OK | ||||||||||||
Package 136/173 | Hostname | OS / Arch | INSTALL | BUILD | BUILD BIN | ||||||||||||
RiboProfiling 1.28.0 (landing page) A. Popa
| kjohnson | macOS 13.0 Ventura / arm64 | OK | OK | OK | ||||||||||||
Package 137/173 | Hostname | OS / Arch | INSTALL | BUILD | BUILD BIN | ||||||||||||
ribosomeProfilingQC 1.10.0 (landing page) Jianhong Ou
| kjohnson | macOS 13.0 Ventura / arm64 | OK | OK | OK | ||||||||||||
Package 138/173 | Hostname | OS / Arch | INSTALL | BUILD | BUILD BIN | ||||||||||||
rifi 1.2.2 (landing page) Jens Georg
| kjohnson | macOS 13.0 Ventura / arm64 | OK | OK | OK | ||||||||||||
Package 139/173 | Hostname | OS / Arch | INSTALL | BUILD | BUILD BIN | ||||||||||||
RIPAT 1.8.0 (landing page) Min-Jeong Baek
| kjohnson | macOS 13.0 Ventura / arm64 | OK | OK | OK | ||||||||||||
Package 140/173 | Hostname | OS / Arch | INSTALL | BUILD | BUILD BIN | ||||||||||||
RLSeq 1.4.1 (landing page) Henry Miller
| kjohnson | macOS 13.0 Ventura / arm64 | OK | ERROR | skipped | ||||||||||||
Package 141/173 | Hostname | OS / Arch | INSTALL | BUILD | BUILD BIN | ||||||||||||
rmspc 1.4.0 (landing page) Meriem Bahda
| kjohnson | macOS 13.0 Ventura / arm64 | OK | ERROR | skipped | ||||||||||||
Package 142/173 | Hostname | OS / Arch | INSTALL | BUILD | BUILD BIN | ||||||||||||
RNAmodR 1.12.0 (landing page) Felix G.M. Ernst
| kjohnson | macOS 13.0 Ventura / arm64 | OK | OK | OK | ||||||||||||
Package 143/173 | Hostname | OS / Arch | INSTALL | BUILD | BUILD BIN | ||||||||||||
roar 1.34.0 (landing page) Elena Grassi
| kjohnson | macOS 13.0 Ventura / arm64 | OK | OK | OK | ||||||||||||
Package 144/173 | Hostname | OS / Arch | INSTALL | BUILD | BUILD BIN | ||||||||||||
scanMiRApp 1.4.0 (landing page) Pierre-Luc Germain
| kjohnson | macOS 13.0 Ventura / arm64 | OK | OK | OK | ||||||||||||
Package 145/173 | Hostname | OS / Arch | INSTALL | BUILD | BUILD BIN | ||||||||||||
SCANVIS 1.12.0 (landing page) Phaedra Agius
| kjohnson | macOS 13.0 Ventura / arm64 | OK | OK | OK | ||||||||||||
Package 146/173 | Hostname | OS / Arch | INSTALL | BUILD | BUILD BIN | ||||||||||||
scDblFinder 1.12.0 (landing page) Pierre-Luc Germain
| kjohnson | macOS 13.0 Ventura / arm64 | OK | OK | OK | ||||||||||||
Package 147/173 | Hostname | OS / Arch | INSTALL | BUILD | BUILD BIN | ||||||||||||
scPipe 1.20.6 (landing page) Shian Su
| kjohnson | macOS 13.0 Ventura / arm64 | OK | OK | OK | ||||||||||||
Package 148/173 | Hostname | OS / Arch | INSTALL | BUILD | BUILD BIN | ||||||||||||
scruff 1.16.0 (landing page) Zhe Wang
| kjohnson | macOS 13.0 Ventura / arm64 | OK | OK | OK | ||||||||||||
Package 149/173 | Hostname | OS / Arch | INSTALL | BUILD | BUILD BIN | ||||||||||||
seqCAT 1.20.0 (landing page) Erik Fasterius
| kjohnson | macOS 13.0 Ventura / arm64 | OK | OK | OK | ||||||||||||
Package 150/173 | Hostname | OS / Arch | INSTALL | BUILD | BUILD BIN | ||||||||||||
seqsetvis 1.18.1 (landing page) Joseph R Boyd
| kjohnson | macOS 13.0 Ventura / arm64 | OK | OK | OK | ||||||||||||
Package 151/173 | Hostname | OS / Arch | INSTALL | BUILD | BUILD BIN | ||||||||||||
sevenC 1.18.0 (landing page) Jonas Ibn-Salem
| kjohnson | macOS 13.0 Ventura / arm64 | OK | OK | OK | ||||||||||||
Package 152/173 | Hostname | OS / Arch | INSTALL | BUILD | BUILD BIN | ||||||||||||
SGSeq 1.32.0 (landing page) Leonard Goldstein
| kjohnson | macOS 13.0 Ventura / arm64 | OK | OK | OK | ||||||||||||
Package 153/173 | Hostname | OS / Arch | INSTALL | BUILD | BUILD BIN | ||||||||||||
shinyepico 1.6.0 (landing page) Octavio Morante-Palacios
| kjohnson | macOS 13.0 Ventura / arm64 | OK | OK | OK | ||||||||||||
Package 154/173 | Hostname | OS / Arch | INSTALL | BUILD | BUILD BIN | ||||||||||||
signeR 2.0.2 (landing page) Renan Valieris
| kjohnson | macOS 13.0 Ventura / arm64 | OK | OK | OK | ||||||||||||
Package 155/173 | Hostname | OS / Arch | INSTALL | BUILD | BUILD BIN | ||||||||||||
SigsPack 1.12.0 (landing page) Franziska Schumann
| kjohnson | macOS 13.0 Ventura / arm64 | OK | OK | OK | ||||||||||||
Package 156/173 | Hostname | OS / Arch | INSTALL | BUILD | BUILD BIN | ||||||||||||
sitadela 1.6.0 (landing page) Panagiotis Moulos
| kjohnson | macOS 13.0 Ventura / arm64 | OK | OK | OK | ||||||||||||
Package 157/173 | Hostname | OS / Arch | INSTALL | BUILD | BUILD BIN | ||||||||||||
soGGi 1.30.0 (landing page) Tom Carroll
| kjohnson | macOS 13.0 Ventura / arm64 | OK | OK | OK | ||||||||||||
Package 158/173 | Hostname | OS / Arch | INSTALL | BUILD | BUILD BIN | ||||||||||||
SpliceWiz 1.0.4 (landing page) Alex Chit Hei Wong
| kjohnson | macOS 13.0 Ventura / arm64 | OK | OK | OK | ||||||||||||
Package 159/173 | Hostname | OS / Arch | INSTALL | BUILD | BUILD BIN | ||||||||||||
srnadiff 1.18.2 (landing page) Zytnicki Matthias
| kjohnson | macOS 13.0 Ventura / arm64 | OK | OK | OK | ||||||||||||
Package 160/173 | Hostname | OS / Arch | INSTALL | BUILD | BUILD BIN | ||||||||||||
StructuralVariantAnnotation 1.14.1 (landing page) Daniel Cameron
| kjohnson | macOS 13.0 Ventura / arm64 | OK | OK | OK | ||||||||||||
Package 161/173 | Hostname | OS / Arch | INSTALL | BUILD | BUILD BIN | ||||||||||||
svaNUMT 1.4.0 (landing page) Ruining Dong
| kjohnson | macOS 13.0 Ventura / arm64 | OK | OK | OK | ||||||||||||
Package 162/173 | Hostname | OS / Arch | INSTALL | BUILD | BUILD BIN | ||||||||||||
svaRetro 1.4.0 (landing page) Ruining Dong
| kjohnson | macOS 13.0 Ventura / arm64 | OK | OK | OK | ||||||||||||
Package 163/173 | Hostname | OS / Arch | INSTALL | BUILD | BUILD BIN | ||||||||||||
syntenet 1.0.4 (landing page) Fabrício Almeida-Silva
| kjohnson | macOS 13.0 Ventura / arm64 | OK | OK | OK | ||||||||||||
Package 164/173 | Hostname | OS / Arch | INSTALL | BUILD | BUILD BIN | ||||||||||||
TFBSTools 1.36.0 (landing page) Ge Tan
| kjohnson | macOS 13.0 Ventura / arm64 | OK | OK | OK | ||||||||||||
Package 165/173 | Hostname | OS / Arch | INSTALL | BUILD | BUILD BIN | ||||||||||||
trackViewer 1.34.0 (landing page) Jianhong Ou
| kjohnson | macOS 13.0 Ventura / arm64 | OK | OK | OK | ||||||||||||
Package 166/173 | Hostname | OS / Arch | INSTALL | BUILD | BUILD BIN | ||||||||||||
transcriptR 1.26.0 (landing page) Armen R. Karapetyan
| kjohnson | macOS 13.0 Ventura / arm64 | OK | OK | OK | ||||||||||||
Package 167/173 | Hostname | OS / Arch | INSTALL | BUILD | BUILD BIN | ||||||||||||
TRESS 1.4.0 (landing page) Zhenxing Guo
| kjohnson | macOS 13.0 Ventura / arm64 | OK | OK | OK | ||||||||||||
Package 168/173 | Hostname | OS / Arch | INSTALL | BUILD | BUILD BIN | ||||||||||||
tRNAscanImport 1.18.0 (landing page) Felix G.M. Ernst
| kjohnson | macOS 13.0 Ventura / arm64 | OK | OK | OK | ||||||||||||
Package 169/173 | Hostname | OS / Arch | INSTALL | BUILD | BUILD BIN | ||||||||||||
txcutr 1.4.0 (landing page) Mervin Fansler
| kjohnson | macOS 13.0 Ventura / arm64 | OK | OK | OK | ||||||||||||
Package 170/173 | Hostname | OS / Arch | INSTALL | BUILD | BUILD BIN | ||||||||||||
VariantAnnotation 1.44.1 (landing page) Bioconductor Package Maintainer
| kjohnson | macOS 13.0 Ventura / arm64 | OK | OK | OK | ||||||||||||
Package 171/173 | Hostname | OS / Arch | INSTALL | BUILD | BUILD BIN | ||||||||||||
VariantTools 1.40.0 (landing page) Michael Lawrence
| kjohnson | macOS 13.0 Ventura / arm64 | OK | OK | OK | ||||||||||||
Package 172/173 | Hostname | OS / Arch | INSTALL | BUILD | BUILD BIN | ||||||||||||
wavClusteR 2.32.0 (landing page) Federico Comoglio
| kjohnson | macOS 13.0 Ventura / arm64 | OK | OK | OK | ||||||||||||
Package 173/173 | Hostname | OS / Arch | INSTALL | BUILD | BUILD BIN | ||||||||||||
wiggleplotr 1.22.0 (landing page) Kaur Alasoo
| kjohnson | macOS 13.0 Ventura / arm64 | OK | OK | OK | ||||||||||||