git_url: https://git.bioconductor.org/packages/sangerseqR
git_branch: RELEASE_3_16
git_last_commit: 76df034
git_last_commit_date: 2022-11-01 11:09:15 -0400 (Tue, 01 Nov 2022)
Package: sangerseqR
Version: 1.34.0
Maintainer: Jonathon Hill
MaintainerEmail: jhill at byu.edu