Package: scDDboost
Version: 1.0.0
Command: /Library/Frameworks/R.framework/Resources/bin/R CMD INSTALL scDDboost
StartedAt: 2023-04-16 15:10:19 -0400 (Sun, 16 Apr 2023)
EndedAt: 2023-04-16 15:11:57 -0400 (Sun, 16 Apr 2023)
EllapsedTime: 98.2 seconds
RetCode: 0
Status: OK