Package: scReClassify Version: 1.4.0 Command: rm -rf scReClassify.buildbin-libdir && mkdir scReClassify.buildbin-libdir && /Users/biocbuild/BBS/utils/build-universal.sh scReClassify_1.4.0.tar.gz /Library/Frameworks/R.framework/Resources/bin/R scReClassify.buildbin-libdir StartedAt: 2023-04-18 19:23:13 -0400 (Tue, 18 Apr 2023) EndedAt: 2023-04-18 19:24:04 -0400 (Tue, 18 Apr 2023) EllapsedTime: 51.0 seconds RetCode: 0 Status: OK PackageFile: scReClassify_1.4.0.tgz PackageFileSize: 2.475 MiB