Package: scRecover Version: 1.14.1 Command: rm -rf scRecover.buildbin-libdir && mkdir scRecover.buildbin-libdir && /Users/biocbuild/BBS/utils/build-universal.sh scRecover_1.14.1.tar.gz /Library/Frameworks/R.framework/Resources/bin/R scRecover.buildbin-libdir StartedAt: 2023-04-18 19:23:40 -0400 (Tue, 18 Apr 2023) EndedAt: 2023-04-18 19:24:09 -0400 (Tue, 18 Apr 2023) EllapsedTime: 28.4 seconds RetCode: 0 Status: OK PackageFile: scRecover_1.14.1.tgz PackageFileSize: 1.154 MiB