Package: scRecover Version: 1.14.1 Command: /Library/Frameworks/R.framework/Resources/bin/R CMD build --keep-empty-dirs --no-resave-data scRecover StartedAt: 2023-04-18 06:19:21 -0400 (Tue, 18 Apr 2023) EndedAt: 2023-04-18 06:21:25 -0400 (Tue, 18 Apr 2023) EllapsedTime: 124.3 seconds RetCode: 0 Status: OK PackageFile: scRecover_1.14.1.tar.gz PackageFileSize: 1.699 MiB