Package: scRecover Version: 1.14.1 Command: /Library/Frameworks/R.framework/Resources/bin/R CMD INSTALL scRecover StartedAt: 2023-04-16 18:45:17 -0400 (Sun, 16 Apr 2023) EndedAt: 2023-04-16 18:45:33 -0400 (Sun, 16 Apr 2023) EllapsedTime: 16.0 seconds RetCode: 0 Status: OK