Package: scTGIF Version: 1.12.0 Command: /Library/Frameworks/R.framework/Resources/bin/R CMD build --keep-empty-dirs --no-resave-data scTGIF StartedAt: 2023-04-18 06:34:16 -0400 (Tue, 18 Apr 2023) EndedAt: 2023-04-18 06:35:49 -0400 (Tue, 18 Apr 2023) EllapsedTime: 92.7 seconds RetCode: 0 Status: OK PackageFile: scTGIF_1.12.0.tar.gz PackageFileSize: 2.382 MiB