Package: scanMiR Version: 1.4.0 Command: /Library/Frameworks/R.framework/Resources/bin/R CMD build --keep-empty-dirs --no-resave-data scanMiR StartedAt: 2023-04-18 03:47:04 -0400 (Tue, 18 Apr 2023) EndedAt: 2023-04-18 03:48:37 -0400 (Tue, 18 Apr 2023) EllapsedTime: 92.3 seconds RetCode: 0 Status: OK PackageFile: scanMiR_1.4.0.tar.gz PackageFileSize: 621.6 KiB