Package: schex Version: 1.12.0 Command: rm -rf schex.buildbin-libdir && mkdir schex.buildbin-libdir && /Users/biocbuild/BBS/utils/build-universal.sh schex_1.12.0.tar.gz /Library/Frameworks/R.framework/Resources/bin/R schex.buildbin-libdir StartedAt: 2023-04-18 19:18:56 -0400 (Tue, 18 Apr 2023) EndedAt: 2023-04-18 19:20:21 -0400 (Tue, 18 Apr 2023) EllapsedTime: 84.5 seconds RetCode: 0 Status: OK PackageFile: schex_1.12.0.tgz PackageFileSize: 3.187 MiB