Package: scifer Version: 1.0.0 Command: rm -rf scifer.buildbin-libdir && mkdir scifer.buildbin-libdir && /Users/biocbuild/BBS/utils/build-universal.sh scifer_1.0.0.tar.gz /Library/Frameworks/R.framework/Resources/bin/R scifer.buildbin-libdir StartedAt: 2023-04-18 19:19:17 -0400 (Tue, 18 Apr 2023) EndedAt: 2023-04-18 19:20:04 -0400 (Tue, 18 Apr 2023) EllapsedTime: 47.1 seconds RetCode: 0 Status: OK PackageFile: scifer_1.0.0.tgz PackageFileSize: 2.268 MiB