Package: scifer Version: 1.0.0 Command: /Library/Frameworks/R.framework/Resources/bin/R CMD build --keep-empty-dirs --no-resave-data scifer StartedAt: 2023-04-18 05:33:35 -0400 (Tue, 18 Apr 2023) EndedAt: 2023-04-18 05:38:37 -0400 (Tue, 18 Apr 2023) EllapsedTime: 301.4 seconds RetCode: 0 Status: OK PackageFile: scifer_1.0.0.tar.gz PackageFileSize: 2.241 MiB