Package: scoreInvHap Version: 1.20.0 Command: /Library/Frameworks/R.framework/Resources/bin/R CMD build --keep-empty-dirs --no-resave-data scoreInvHap StartedAt: 2023-04-18 05:59:05 -0400 (Tue, 18 Apr 2023) EndedAt: 2023-04-18 06:01:16 -0400 (Tue, 18 Apr 2023) EllapsedTime: 130.6 seconds RetCode: 0 Status: OK PackageFile: scoreInvHap_1.20.0.tar.gz PackageFileSize: 1.015 MiB