Package: scoreInvHap Version: 1.20.0 Command: /Library/Frameworks/R.framework/Resources/bin/R CMD INSTALL scoreInvHap StartedAt: 2023-04-16 16:57:44 -0400 (Sun, 16 Apr 2023) EndedAt: 2023-04-16 16:59:06 -0400 (Sun, 16 Apr 2023) EllapsedTime: 82.1 seconds RetCode: 0 Status: OK