Package: seqLogo Version: 1.64.0 Command: /Library/Frameworks/R.framework/Resources/bin/R CMD INSTALL seqLogo StartedAt: 2023-04-16 14:09:26 -0400 (Sun, 16 Apr 2023) EndedAt: 2023-04-16 14:09:31 -0400 (Sun, 16 Apr 2023) EllapsedTime: 5.5 seconds RetCode: 0 Status: OK