Package: seqcombo Version: 1.20.0 Command: rm -rf seqcombo.buildbin-libdir && mkdir seqcombo.buildbin-libdir && /Users/biocbuild/BBS/utils/build-universal.sh seqcombo_1.20.0.tar.gz /Library/Frameworks/R.framework/Resources/bin/R seqcombo.buildbin-libdir StartedAt: 2023-04-18 19:30:15 -0400 (Tue, 18 Apr 2023) EndedAt: 2023-04-18 19:30:26 -0400 (Tue, 18 Apr 2023) EllapsedTime: 10.9 seconds RetCode: 0 Status: OK PackageFile: seqcombo_1.20.0.tgz PackageFileSize: 671.2 KiB