Package: sesame Version: 1.16.1 Command: /Library/Frameworks/R.framework/Resources/bin/R CMD build --keep-empty-dirs --no-resave-data sesame StartedAt: 2023-04-18 07:14:09 -0400 (Tue, 18 Apr 2023) EndedAt: 2023-04-18 07:20:04 -0400 (Tue, 18 Apr 2023) EllapsedTime: 355.3 seconds RetCode: 0 Status: OK PackageFile: sesame_1.16.1.tar.gz PackageFileSize: 15.55 MiB