Package: sevenbridges Version: 1.28.0 Command: rm -rf sevenbridges.buildbin-libdir && mkdir sevenbridges.buildbin-libdir && /Users/biocbuild/BBS/utils/build-universal.sh sevenbridges_1.28.0.tar.gz /Library/Frameworks/R.framework/Resources/bin/R sevenbridges.buildbin-libdir StartedAt: 2023-04-18 19:32:02 -0400 (Tue, 18 Apr 2023) EndedAt: 2023-04-18 19:33:07 -0400 (Tue, 18 Apr 2023) EllapsedTime: 64.9 seconds RetCode: 0 Status: OK PackageFile: sevenbridges_1.28.0.tgz PackageFileSize: 5.745 MiB