Package: shinyMethyl Version: 1.34.0 Command: rm -rf shinyMethyl.buildbin-libdir && mkdir shinyMethyl.buildbin-libdir && /Users/biocbuild/BBS/utils/build-universal.sh shinyMethyl_1.34.0.tar.gz /Library/Frameworks/R.framework/Resources/bin/R shinyMethyl.buildbin-libdir StartedAt: 2023-04-18 19:33:07 -0400 (Tue, 18 Apr 2023) EndedAt: 2023-04-18 19:34:55 -0400 (Tue, 18 Apr 2023) EllapsedTime: 107.8 seconds RetCode: 0 Status: OK PackageFile: shinyMethyl_1.34.0.tgz PackageFileSize: 4.825 MiB