Package: shinyepico Version: 1.6.0 Command: rm -rf shinyepico.buildbin-libdir && mkdir shinyepico.buildbin-libdir && /Users/biocbuild/BBS/utils/build-universal.sh shinyepico_1.6.0.tar.gz /Library/Frameworks/R.framework/Resources/bin/R shinyepico.buildbin-libdir StartedAt: 2023-04-18 19:32:59 -0400 (Tue, 18 Apr 2023) EndedAt: 2023-04-18 19:33:13 -0400 (Tue, 18 Apr 2023) EllapsedTime: 13.7 seconds RetCode: 0 Status: OK PackageFile: shinyepico_1.6.0.tgz PackageFileSize: 1.454 MiB