Package: shinyepico Version: 1.6.0 Command: /Library/Frameworks/R.framework/Resources/bin/R CMD INSTALL shinyepico StartedAt: 2023-04-16 18:18:17 -0400 (Sun, 16 Apr 2023) EndedAt: 2023-04-16 18:18:26 -0400 (Sun, 16 Apr 2023) EllapsedTime: 9.8 seconds RetCode: 0 Status: OK