Package: signifinder Version: 1.0.0 Command: rm -rf signifinder.buildbin-libdir && mkdir signifinder.buildbin-libdir && /Users/biocbuild/BBS/utils/build-universal.sh signifinder_1.0.0.tar.gz /Library/Frameworks/R.framework/Resources/bin/R signifinder.buildbin-libdir StartedAt: 2023-04-18 19:35:38 -0400 (Tue, 18 Apr 2023) EndedAt: 2023-04-18 19:37:57 -0400 (Tue, 18 Apr 2023) EllapsedTime: 139.4 seconds RetCode: 0 Status: OK PackageFile: signifinder_1.0.0.tgz PackageFileSize: 3.892 MiB