Package: simpleSeg Version: 1.0.2 Command: rm -rf simpleSeg.buildbin-libdir && mkdir simpleSeg.buildbin-libdir && /Users/biocbuild/BBS/utils/build-universal.sh simpleSeg_1.0.2.tar.gz /Library/Frameworks/R.framework/Resources/bin/R simpleSeg.buildbin-libdir StartedAt: 2023-04-18 19:37:57 -0400 (Tue, 18 Apr 2023) EndedAt: 2023-04-18 19:40:16 -0400 (Tue, 18 Apr 2023) EllapsedTime: 138.9 seconds RetCode: 0 Status: OK PackageFile: simpleSeg_1.0.2.tgz PackageFileSize: 4.422 MiB