Package: simpleSeg Version: 1.0.2 Command: /Library/Frameworks/R.framework/Resources/bin/R CMD INSTALL simpleSeg StartedAt: 2023-04-16 15:16:45 -0400 (Sun, 16 Apr 2023) EndedAt: 2023-04-16 15:18:14 -0400 (Sun, 16 Apr 2023) EllapsedTime: 89.3 seconds RetCode: 0 Status: OK