Package: sitadela Version: 1.6.0 Command: rm -rf sitadela.buildbin-libdir && mkdir sitadela.buildbin-libdir && /Users/biocbuild/BBS/utils/build-universal.sh sitadela_1.6.0.tar.gz /Library/Frameworks/R.framework/Resources/bin/R sitadela.buildbin-libdir StartedAt: 2023-04-18 19:41:25 -0400 (Tue, 18 Apr 2023) EndedAt: 2023-04-18 19:42:58 -0400 (Tue, 18 Apr 2023) EllapsedTime: 93.9 seconds RetCode: 0 Status: OK PackageFile: sitadela_1.6.0.tgz PackageFileSize: 696.6 KiB