Package: snapCGH Version: 1.68.0 Command: /Library/Frameworks/R.framework/Resources/bin/R CMD build --keep-empty-dirs --no-resave-data snapCGH StartedAt: 2023-04-18 08:14:10 -0400 (Tue, 18 Apr 2023) EndedAt: 2023-04-18 08:15:03 -0400 (Tue, 18 Apr 2023) EllapsedTime: 52.7 seconds RetCode: 0 Status: OK PackageFile: snapCGH_1.68.0.tar.gz PackageFileSize: 1.103 MiB